BEGIN:VCALENDAR
VERSION:2.0
PRODID:-//eventon.com NONSGML v1.0//EN
CALSCALE:GREGORIAN
METHOD:PUBLISH
BEGIN:VEVENT
UID:69eba983eb3c4
DTSTAMP:20260425T013355
DTSTART:20260622T010000Z
DTEND:20260623T090000Z
TZID:Asia/Kuala_Lumpur
LOCATION:JAZZ HOTEL PENANG 1\,  Jalan Seri Tg Pinang\,  Seri Tanjung Pinang\,  10470 Tanjung Tokong\,  Pulau Pinang
SUMMARY:Supply Chain Risk Management and Resilience Planning
DESCRIPTION: COURSE OVERVIEW Today’s supply chains are under growing pressure from every direction. What once appeared stable and efficient can quickly become exposed by geopolitical tensions\,  supplier disruption\,  cyber threats\,  logistics delays\,  climate-related events\,  and sudden shifts in market demand. In an environment where one weak link can trigger serious operational[..]\nhttps://progresslink.com.my/events/supply-chain-risk-management-and-resilience-planning/
URL:https://progresslink.com.my/events/supply-chain-risk-management-and-resilience-planning/
END:VEVENT
END:VCALENDAR